BEGIN:VCALENDAR
VERSION:2.0
PRODID:PHP
METHOD:PUBLISH
BEGIN:VTIMEZONE
TZID:America/New_York
BEGIN:DAYLIGHT
TZOFFSETFROM:-0500
TZOFFSETTO:-0400
TZNAME:EDT
DTSTART:19700308T020000
RRULE:FREQ=YEARLY;BYMONTH=3;BYDAY=2SU
END:DAYLIGHT
BEGIN:STANDARD
TZOFFSETFROM:-0400
TZOFFSETTO:-0500
TZNAME:EST
DTSTART:19701101T020000
RRULE:FREQ=YEARLY;BYMONTH=11;BYDAY=1SU
END:STANDARD
END:VTIMEZONE
BEGIN:VEVENT
DTSTART;TZID=America/New_York:20191012T100000
DTEND;TZID=America/New_York:20191012T113000
SUMMARY:Golden Anniversary Mass, celebrating 50 years of marriage 
LOCATION:Golden Anniversary Mass, celebrating 50 years of marriage , Cathedral of St. John the Evangelist 1007 Superior Avenue Cleveland, OH 44114
UID:2019-10-golden-anniversary-mass-celebrating-50-years-of-marriage@gcbl.org
DTSTAMP:20260422T084726
END:VEVENT
END:VCALENDAR
