BEGIN:VCALENDAR
VERSION:2.0
PRODID:PHP
METHOD:PUBLISH
BEGIN:VTIMEZONE
TZID:America/New_York
BEGIN:DAYLIGHT
TZOFFSETFROM:-0500
TZOFFSETTO:-0400
TZNAME:EDT
DTSTART:19700308T020000
RRULE:FREQ=YEARLY;BYMONTH=3;BYDAY=2SU
END:DAYLIGHT
BEGIN:STANDARD
TZOFFSETFROM:-0400
TZOFFSETTO:-0500
TZNAME:EST
DTSTART:19701101T020000
RRULE:FREQ=YEARLY;BYMONTH=11;BYDAY=1SU
END:STANDARD
END:VTIMEZONE
BEGIN:VEVENT
DTSTART;TZID=America/New_York:20210328T103000
DTEND;TZID=America/New_York:20210328T120000
SUMMARY:Palm Sunday Mass
LOCATION:Palm Sunday Mass, Cathedral of St. John the Evangelist 1007 Superior Cleveland, OH 44114
UID:2021-03-palm-sunday-mass@gcbl.org
DTSTAMP:20260423T212843
END:VEVENT
END:VCALENDAR
