BEGIN:VCALENDAR
VERSION:2.0
PRODID:PHP
METHOD:PUBLISH
BEGIN:VTIMEZONE
TZID:America/New_York
BEGIN:DAYLIGHT
TZOFFSETFROM:-0500
TZOFFSETTO:-0400
TZNAME:EDT
DTSTART:19700308T020000
RRULE:FREQ=YEARLY;BYMONTH=3;BYDAY=2SU
END:DAYLIGHT
BEGIN:STANDARD
TZOFFSETFROM:-0400
TZOFFSETTO:-0500
TZNAME:EST
DTSTART:19701101T020000
RRULE:FREQ=YEARLY;BYMONTH=11;BYDAY=1SU
END:STANDARD
END:VTIMEZONE
BEGIN:VEVENT
DTSTART;TZID=America/New_York:20210725T170000
DTEND;TZID=America/New_York:20210725T200000
SUMMARY:Beer, Brats and Busted Halos with Fr. Dave Dwyer from Sirius XM’s Catholic Channel
LOCATION:Beer, Brats and Busted Halos with Fr. Dave Dwyer from Sirius XM’s Catholic Channel, St. Peter Parish 1533 East 17th Street Cleveland, OH 44114
UID:2021-07-beer-brats-and-busted-halos-with-fr-dave-dwyer-from-sirius-xms-catholic-channel@gcbl.org
DTSTAMP:20260423T172229
END:VEVENT
END:VCALENDAR
