BEGIN:VCALENDAR
VERSION:2.0
PRODID:PHP
METHOD:PUBLISH
BEGIN:VTIMEZONE
TZID:America/New_York
BEGIN:DAYLIGHT
TZOFFSETFROM:-0500
TZOFFSETTO:-0400
TZNAME:EDT
DTSTART:19700308T020000
RRULE:FREQ=YEARLY;BYMONTH=3;BYDAY=2SU
END:DAYLIGHT
BEGIN:STANDARD
TZOFFSETFROM:-0400
TZOFFSETTO:-0500
TZNAME:EST
DTSTART:19701101T020000
RRULE:FREQ=YEARLY;BYMONTH=11;BYDAY=1SU
END:STANDARD
END:VTIMEZONE
BEGIN:VEVENT
DTSTART;TZID=America/New_York:20210920T150000
DTEND;TZID=America/New_York:20210920T160000
SUMMARY:Heart of a Shepherd Kick Off
LOCATION:Heart of a Shepherd Kick Off, Center for Pastoral Leadership 28700 Euclid Ave. Wickliffe, OH 44092
UID:2021-09-heart-of-a-shepherd-kick-off@gcbl.org
DTSTAMP:20260423T142959
END:VEVENT
END:VCALENDAR
